Workbook
Name _ftn1: 'miesiąc 1'!$A$59
Name _ftn2: 'miesiąc 1'!$A$60
Name _ftn3: 'miesiąc 1'!$A$61
Name _ftn4: 'miesiąc 1'!$A$62
Name _ftn5: 'miesiąc 1'!$A$64
Name _ftnref1: 'miesiąc 1'!$D$27
Name _ftnref2: 'miesiąc 1'!$F$27
Name _ftnref3: 'miesiąc 1'!$G$27
Name _ftnref4: 'miesiąc 1'!$K$27
Name _ftnref5: 'miesiąc 1'!$A$51
Name _Hlk160017338: 'miesiąc 1'!$W$12
Name _Hlk160017339: 'miesiąc 1'!$W$12

Sheet miesiąc 1
I3: Załącznik nr 6 do Regulaminu rekrutacji i uczestnictwa w projekcie „Solidne fundamenty - wsparcie rozwoju kwalifikacji i kompetencji kadr sektora Budownictwo”
A6: OŚWIADCZENIE DOTYCZĄCE WYSOKOŚCI WKŁADU WŁASNEGO PRZEDSIĘBIORCY W FORMIE WYNAGRODZEŃ
A7: dla usługi rozwojowej (nie będącej usługą doradczą) nr
B10: W przypadku usługi rozwojowej, której termin realizacji rozpoczyna się i kończy w różnych miesiącach, należy wypełnić arkusz danymi odrębnie dla każdego miesiąca.
B12: Nazwa Przedsiębiorcy:
B13: Numer umowy wsparcia (zawartej z Operatorem):
B14: Nazwa szkolenia i numer usługi:
B15: Miejsce szkolenia:
B16: Data szkolenia:
B17: Ilość godzin usługi rozwojowej z karty usługi (w danym miesiącu)
B18: Cena za osobogodzinę brutto usługi rozwojowej z karty usługi [1]
B20: Koszt (zgodnie z limitem za osobę) usługi rozwojowej przypadający na osobę:[2] | G20: A | H20: =H17*H18 -> 0
B21: Ilość oddelegowanych na usługę rozwojową pracowników Przedsiębiorstwa (w danym miesiącu): | G21: B
B22: Wkład prywatny konieczny do wniesienia przez Przedsiębiorcę za 1-go pracownika:[3] | G22: C | H22: =(H20/0.8-H20) -> 0
B23: Wkład prywatny konieczny do wniesienia przez Przedsiębiorcę (ogółem):[4] | G23: D | H23: =H22*H21 -> 0
B26: Lp. | C26: Imię uczestnika szkolenia | D26: Nazwisko uczestnika szkolenia | E26: Liczba godzin zegarowych uczestnictwa w szkoleniu[5] | F26: Miesięczna norma czasu pracy dla pracownika (w godzinach zegarowych) | G26: Wynagrodzenie pracownika zgodnie z listą płac (kwota brutto + ewentualne dodatki)[6] | I26: Daty zapłaty wynagrodzenia[7] | J26: Wynagrodzenie pracownika za godzinę zegarową uczestnictwa w szkoleniu | K26: Wynagrodzenie pracownika za czas uczestnictwa w szkoleniu | L26: Wynagrodzenie pracownika za czas uczestnictwa w szkoleniu wnoszone do projektu zgodnie z Regulaminem
C27: 1 | D27: 2 | E27: 3 | F27: 4 | G27: 5 | I27: 6 | J27: 7= (5/4) | K27: 8=(7*3) | L27: 9
B28: P1 | J28: =H28/F28 -> #DIV/0! | K28: =J28*E28 -> #DIV/0! | L28: =K28 -> #DIV/0!
B29: P2 | J29: =H29/F29 -> #DIV/0! | K29: =J29*E29 -> #DIV/0! | L29: =K29 -> #DIV/0!
B30: P3 | J30: =H30/F30 -> #DIV/0! | K30: =J30*E30 -> #DIV/0! | L30: =K30 -> #DIV/0!
B31: P4 | J31: =H31/F31 -> #DIV/0! | K31: =J31*E31 -> #DIV/0! | L31: =K31 -> #DIV/0!
B32: P5 | J32: =H32/F32 -> #DIV/0! | K32: =J32*E32 -> #DIV/0! | L32: =K32 -> #DIV/0!
B33: SUMA[8] | L33: =SUM(L28:L32) -> #DIV/0!
B35: WYJAŚNIENIA:
B36: Należy wypełnić tylko białe pola. Pola szare zawierają samoprzeliczające się formuły!
B37: [1] Należy wpisać koszt usługi brutto za osobę z karty usługi rozwojowej.
B38: [2] Maksymalna kwota dofinansowania przypadająca na Pracownika przedsiębiorcy wynosi 10 500,00 zł (w przypadku wkładu własnego wnoszonego w postaci wynagrodzeń uczestników szkoleń).
B39: [3] Wkład własny liczony wg wzoru: C=A/0,8-A
B40: [4] Wkład własny liczony wg wzoru: D=B*C
B41: [5] Czas liczony od rozpoczęcia do zakończenia szkolenia (wraz z przerwami). Należy wpisać jedynie czas uczestnictwa w szkoleniu, który pokrył się z godzinami pracy pracownika.
B42: [6] Należy wskazać wynagrodzenie pracownika w miesiącu, w którym uczestniczył w szkoleniu. Kwalifikowalnymi składnikami kosztów wynagrodzenia uczestników projektu jest wynagrodzenie brutto oraz koszty ponoszone przez pracodawcę zgodnie z właściwymi przepisami prawa krajowego, w szczególności składki na ubezpieczenia społeczne, Fundusz Pracy, Fundusz Gwarantowanych Świadczeń Pracowniczych, odpisy na ZFŚS oraz wydatki ponoszone na Pracowniczy Program Emerytalny zgodnie z ustawą z dnia 20 kwietnia 2004r. o pracowniczych programach emerytalnych (Dz. U. z 2023r. poz. 710 ), wpłaty dokonywane przez pracodawcę zgodnie z ustawą dnia 4 października 2018r. o pracowniczych planach kapitałowych (Dz. U. z 2023 r. poz. 46).
B43: [7] Należy wskazać daty zapłaty wszystkich składowych wynagrodzenia wskazanego w kol. 5.
B44: [8] Suma wkładu w wynagrodzeniach wnoszonego przez wszystkich pracowników Przedsiębiorcy nie może przekroczyć kwoty wykazanej w polu „wkład prywatny konieczny do wniesienia przez Przedsiębiorcę (ogółem)”.
B48: OŚWIADCZENIA PRACODAWCY:
C49: Oświadczam, że wynagrodzenia ww. pracowników zostały wypłacone przez Przedsiębiorstwo, które reprezentuję w wysokości wskazanej w kol. 5 (tj. zgodnie z listą płac w zakresie kwoty brutto powiększonej o ewentualne premie/dodatki zgodne z regulaminem wynagrodzeń).
B50: 1.
B51: 2. | C51: Środki na wynagrodzenia nie zostałyć uzyskane przez Przedsiębiorstwo, które reprezentuję w związku z otrzymanymi wcześniej innymi środkami publicznymi (krajowymi, zagranicznymi i międzynarodowymi).
B52: 3. | C52: Liczba godzin usługi rozwojowej w części wg kol.3 realizowana jest w godzinach pracy uczestników tej usługi.
B53: 4. | C53: Wkład własny w postaci wynagrodzeń został poniesiony zgodnie z przepisami krajowymi, z uwzględnieniem zasad wynikających z ustawy z dnia 29 września 1994 r. o rachunkowości i wynika z dokumentacji księgowej podmiotu wypłacającego (przedsiębiorcy) i może podlegać kontroli.
B54: 5. | C54: Kwota wynagrodzenia pracownika zawarta w kol. 5 nie zawiera wpłat dokonywanych przez przedsiębiorcę zgodnie z ustawą z dnia 27 sierpnia 1997 r. 23 o rehabilitacji zawodowej i społecznej oraz zatrudnianiu osób niepełnosprawnych na PFRON.
...

Sheet miesiąc 2
I3: Załącznik nr 6 do Regulaminu rekrutacji i uczestnictwa w projekcie „Solidne fundamenty - wsparcie rozwoju kwalifikacji i kompetencji kadr sektora Budownictwo”
A6: OŚWIADCZENIE DOTYCZĄCE WYSOKOŚCI WKŁADU WŁASNEGO PRZEDSIĘBIORCY W FORMIE WYNAGRODZEŃ
A7: dla usługi rozwojowej (nie będącej usługą doradczą) nr
A8: ='miesiąc 1'!$A$8:$L$8 -> 0
B10: W przypadku usługi rozwojowej, której termin realizacji rozpoczyna się i kończy w różnych miesiącach, należy wypełnić arkusz danymi odrębnie dla każdego miesiąca.
B12: Nazwa Przedsiębiorcy: | H12: ='miesiąc 1'!$H$12:$L$12 -> 0
B13: Numer umowy wsparcia (zawartej z Operatorem): | H13: ='miesiąc 1'!H13:L13 -> 0
B14: Nazwa szkolenia i numer usługi: | H14: ='miesiąc 1'!H14:L14 -> 0
B15: Miejsce szkolenia: | H15: ='miesiąc 1'!H15:L15 -> 0
B16: Data szkolenia: | H16: ='miesiąc 1'!H16:L16 -> 0
B17: Ilość godzin usługi rozwojowej z karty usługi (w danym miesiącu)
B18: Cena za osobogodzinę brutto usługi rozwojowej z karty usługi [1] | H18: ='miesiąc 1'!$H$18:$L$18 -> 0
B20: Koszt (zgodnie z limitem za osobę) usługi rozwojowej przypadający na osobę:[2] | G20: A | H20: =H17*H18 -> 0
B21: Ilość oddelegowanych na usługę rozwojową pracowników Przedsiębiorstwa (w danym miesiącu): | G21: B
B22: Wkład prywatny konieczny do wniesienia przez Przedsiębiorcę za 1-go pracownika:[3] | G22: C | H22: =(H20/0.8-H20) -> 0
B23: Wkład prywatny konieczny do wniesienia przez Przedsiębiorcę (ogółem):[4] | G23: D | H23: =H22*H21 -> 0
B26: Lp. | C26: Imię uczestnika szkolenia | D26: Nazwisko uczestnika szkolenia | E26: Liczba godzin zegarowych uczestnictwa w szkoleniu[5] | F26: Miesięczna norma czasu pracy dla pracownika (w godzinach zegarowych) | G26: Wynagrodzenie pracownika zgodnie z listą płac (kwota brutto + ewentualne dodatki)[6] | I26: Daty zapłaty wynagrodzenia[7] | J26: Wynagrodzenie pracownika za godzinę zegarową uczestnictwa w szkoleniu | K26: Wynagrodzenie pracownika za czas uczestnictwa w szkoleniu | L26: Wynagrodzenie pracownika za czas uczestnictwa w szkoleniu wnoszone do projektu zgodnie z Regulaminem
C27: 1 | D27: 2 | E27: 3 | F27: 4 | G27: 5 | I27: 6 | J27: 7= (5/4) | K27: 8=(7*3) | L27: 9
B28: ='miesiąc 1'!B28 -> P1 | C28: ='miesiąc 1'!C28 -> 0 | D28: ='miesiąc 1'!D28 -> 0 | J28: =G28/F28 -> #DIV/0! | K28: =J28*E28 -> #DIV/0!
B29: ='miesiąc 1'!B29 -> P2 | C29: ='miesiąc 1'!C29 -> 0 | D29: ='miesiąc 1'!D29 -> 0 | J29: =G29/F29 -> #DIV/0! | K29: =J29*E29 -> #DIV/0!
B30: ='miesiąc 1'!B30 -> P3 | C30: ='miesiąc 1'!C30 -> 0 | D30: ='miesiąc 1'!D30 -> 0 | J30: =G30/F30 -> #DIV/0! | K30: =J30*E30 -> #DIV/0!
B31: ='miesiąc 1'!B31 -> P4 | C31: ='miesiąc 1'!C32 -> 0 | D31: ='miesiąc 1'!D31 -> 0 | J31: =H31/F31 -> #DIV/0! | K31: =J31*E31 -> #DIV/0!
B32: SUMA[8] | L32: =SUM(L28:L31) -> 0
B34: WYJAŚNIENIA:
B35: Należy wypełnić tylko białe pola. Pola szare zawierają samoprzeliczające się formuły!
B36: [1] Należy wpisać koszt usługi brutto za osobę z karty usługi rozwojowej.
B37: [2] Maksymalna kwota dofinansowania przypadająca na Pracownika przedsiębiorcy wynosi 10 500,00 zł (w przypadku wkładu własnego wnoszonego w postaci wynagrodzeń uczestników szkoleń).
B38: [3] Wkład własny liczony wg wzoru: C=A/0,8-A
B39: [4] Wkład własny liczony wg wzoru: D=B*C
B40: [5] Czas liczony od rozpoczęcia do zakończenia szkolenia (wraz z przerwami). Należy wpisać jedynie czas uczestnictwa w szkoleniu, który pokrył się z godzinami pracy pracownika.
B41: [6] Należy wskazać wynagrodzenie pracownika w miesiącu, w którym uczestniczył w szkoleniu. Kwalifikowalnymi składnikami kosztów wynagrodzenia uczestników projektu jest wynagrodzenie brutto oraz koszty ponoszone przez pracodawcę zgodnie z właściwymi przepisami prawa krajowego, w szczególności składki na ubezpieczenia społeczne, Fundusz Pracy, Fundusz Gwarantowanych Świadczeń Pracowniczych, odpisy na ZFŚS oraz wydatki ponoszone na Pracowniczy Program Emerytalny zgodnie z ustawą z dnia 20 kwietnia 2004r. o pracowniczych programach emerytalnych (Dz. U. z 2023r. poz. 710 ), wpłaty dokonywane przez pracodawcę zgodnie z ustawą dnia 4 października 2018r. o pracowniczych planach kapitałowych (Dz. U. z 2023 r. poz. 46).
B42: [7] Należy wskazać daty zapłaty wszystkich składowych wynagrodzenia wskazanego w kol. 5.
B43: [8] Suma wkładu w wynagrodzeniach wnoszonego przez wszystkich pracowników Przedsiębiorcy nie może przekroczyć kwoty wykazanej w polu „wkład prywatny konieczny do wniesienia przez Przedsiębiorcę (ogółem)”.
B47: OŚWIADCZENIA PRACODAWCY:
C48: Oświadczam, że wynagrodzenia ww. pracowników zostały wypłacone przez Przedsiębiorstwo, które reprezentuję w wysokości wskazanej w kol. 5 (tj. zgodnie z listą płac w zakresie kwoty brutto powiększonej o ewentualne premie/dodatki zgodne z regulaminem wynagrodzeń).
B49: 1.
B50: 2. | C50: Środki na wynagrodzenia nie zostałyć uzyskane przez Przedsiębiorstwo, które reprezentuję w związku z otrzymanymi wcześniej innymi środkami publicznymi (krajowymi, zagranicznymi i międzynarodowymi).
B51: 3. | C51: Liczba godzin usługi rozwojowej w części wg kol.3 realizowana jest w godzinach pracy uczestników tej usługi.
B52: 4. | C52: Wkład własny w postaci wynagrodzeń został poniesiony zgodnie z przepisami krajowymi, z uwzględnieniem zasad wynikających z ustawy z dnia 29 września 1994 r. o rachunkowości i wynika z dokumentacji księgowej podmiotu wypłacającego (przedsiębiorcy) i może podlegać kontroli.
B53: 5. | C53: Kwota wynagrodzenia pracownika zawarta w kol. 5 nie zawiera wpłat dokonywanych przez przedsiębiorcę zgodnie z ustawą z dnia 27 sierpnia 1997 r. 23 o rehabilitacji zawodowej i społecznej oraz zatrudnianiu osób niepełnosprawnych na PFRON.
...

Sheet RAZEM
I3: Załącznik nr 6 do Regulaminu rekrutacji i uczestnictwa w projekcie „Solidne fundamenty - wsparcie rozwoju kwalifikacji i kompetencji kadr sektora Budownictwo”
A6: OŚWIADCZENIE DOTYCZĄCE WYSOKOŚCI WKŁADU WŁASNEGO PRZEDSIĘBIORCY W FORMIE WYNAGRODZEŃ
A7: dla usługi rozwojowej (nie będącej usługą doradczą) nr
A8: ='miesiąc 1'!$A$8:$L$8 -> 0
B10: W przypadku usługi rozwojowej, której termin realizacji rozpoczyna się i kończy w różnych miesiącach, należy wypełnić arkusz danymi odrębnie dla każdego miesiąca.
B12: Nazwa Przedsiębiorcy: | H12: ='miesiąc 1'!$H$12:$L$12 -> 0
B13: Numer umowy wsparcia (zawartej z Operatorem): | H13: ='miesiąc 2'!H13:L13 -> 0
B14: Nazwa szkolenia i numer usługi: | H14: ='miesiąc 2'!H14:L14 -> 0
B15: Miejsce szkolenia: | H15: ='miesiąc 2'!H15:L15 -> 0
B16: Data szkolenia: | H16: ='miesiąc 2'!H16:L16 -> 0
B17: Ilość godzin usługi rozwojowej z karty usługi | H17: ='miesiąc 1'!$H$17:$L$17+'miesiąc 2'!H17:L17 -> 0
B18: Cena za osobogodzinę brutto usługi rozwojowej z karty usługi [1] | H18: ='miesiąc 1'!$H$18:$L$18 -> 0
B20: Koszt (zgodnie z limitem za osobę) usługi rozwojowej przypadający na osobę:[2] | G20: A | H20: ='miesiąc 1'!H20:L20+'miesiąc 2'!H20:L20 -> 0
B21: Ilość oddelegowanych na usługę rozwojową pracowników Przedsiębiorstwa: | G21: B
B22: Wkład prywatny konieczny do wniesienia przez Przedsiębiorcę za 1-go pracownika:[3] | G22: C | H22: ='miesiąc 1'!H22:L22+'miesiąc 2'!H22:L22 -> 0
B23: Wkład prywatny konieczny do wniesienia przez Przedsiębiorcę (ogółem):[4] | G23: D | H23: ='miesiąc 1'!H23:L23+'miesiąc 2'!H23:L23 -> 0
B26: Lp. | C26: Imię uczestnika szkolenia | D26: Nazwisko uczestnika szkolenia | E26: Liczba godzin zegarowych uczestnictwa w szkoleniu[5] | F26: Miesięczna norma czasu pracy dla pracownika (w godzinach zegarowych) | G26: Wynagrodzenie pracownika zgodnie z listą płac (kwota brutto + ewentualne dodatki)[6] | I26: Daty zapłaty wynagrodzenia[7] | J26: Wynagrodzenie pracownika za godzinę zegarową uczestnictwa w szkoleniu | K26: Wynagrodzenie pracownika za czas uczestnictwa w szkoleniu | L26: Wynagrodzenie pracownika za czas uczestnictwa w szkoleniu wnoszone do projektu zgodnie z Regulaminem
C27: 1 | D27: 2 | E27: 3 | F27: 4 | G27: 5 | I27: 6 | J27: 7= (5/4) | K27: 8=(7*3) | L27: 9
B28: ='miesiąc 1'!B28 -> P1 | C28: ='miesiąc 1'!C28 -> 0 | D28: ='miesiąc 1'!D28 -> 0 | E28: ='miesiąc 1'!E28+'miesiąc 2'!E28 -> 0 | L28: =[1]RAZEM!$L$28 -> 0
B29: ='miesiąc 1'!B29 -> P2 | C29: ='miesiąc 1'!C29 -> 0 | D29: ='miesiąc 1'!D29 -> 0 | E29: ='miesiąc 1'!E29+'miesiąc 2'!E29 -> 0 | L29: ='miesiąc 1'!L29+'miesiąc 2'!L29 -> #DIV/0!
B30: ='miesiąc 1'!B30 -> P3 | C30: ='miesiąc 1'!C30 -> 0 | D30: ='miesiąc 1'!D30 -> 0 | E30: ='miesiąc 1'!E30+'miesiąc 2'!E30 -> 0 | L30: ='miesiąc 1'!L30+'miesiąc 2'!L30 -> #DIV/0!
B31: ='miesiąc 1'!B31 -> P4 | C31: ='miesiąc 1'!C32 -> 0 | D31: ='miesiąc 1'!D31 -> 0 | E31: ='miesiąc 1'!E31+'miesiąc 2'!E31 -> 0 | L31: ='miesiąc 1'!L31+'miesiąc 2'!L31 -> #DIV/0!
B32: SUMA[8] | L32: =SUM(L28:L31) -> #DIV/0!
B34: WYJAŚNIENIA:
B35: Należy wypełnić tylko białe pola. Pola szare zawierają samoprzeliczające się formuły!
B36: [1] Należy wpisać koszt usługi brutto za osobę z karty usługi rozwojowej.
B37: [2] Maksymalna kwota dofinansowania przypadająca na Pracownika przedsiębiorcy wynosi 10 500,00 zł (w przypadku wkładu własnego wnoszonego w postaci wynagrodzeń uczestników szkoleń).
B38: [3] Wkład własny liczony wg wzoru: C=A/0,8-A
B39: [4] Wkład własny liczony wg wzoru: D=B*C
B40: [5] Czas liczony od rozpoczęcia do zakończenia szkolenia (wraz z przerwami). Należy wpisać jedynie czas uczestnictwa w szkoleniu, który pokrył się z godzinami pracy pracownika.
B41: [6] Należy wskazać wynagrodzenie pracownika w miesiącu, w którym uczestniczył w szkoleniu. Kwalifikowalnymi składnikami kosztów wynagrodzenia uczestników projektu jest wynagrodzenie brutto oraz koszty ponoszone przez pracodawcę zgodnie z właściwymi przepisami prawa krajowego, w szczególności składki na ubezpieczenia społeczne, Fundusz Pracy, Fundusz Gwarantowanych Świadczeń Pracowniczych, odpisy na ZFŚS oraz wydatki ponoszone na Pracowniczy Program Emerytalny zgodnie z ustawą z dnia 20 kwietnia 2004r. o pracowniczych programach emerytalnych (Dz. U. z 2023r. poz. 710 ), wpłaty dokonywane przez pracodawcę zgodnie z ustawą dnia 4 października 2018r. o pracowniczych planach kapitałowych (Dz. U. z 2023 r. poz. 46).
B42: [7] Należy wskazać daty zapłaty wszystkich składowych wynagrodzenia wskazanego w kol. 5.
B43: [8] Suma wkładu w wynagrodzeniach wnoszonego przez wszystkich pracowników Przedsiębiorcy nie może przekroczyć kwoty wykazanej w polu „wkład prywatny konieczny do wniesienia przez Przedsiębiorcę (ogółem)”.
B47: OŚWIADCZENIA PRACODAWCY:
C48: Oświadczam, że wynagrodzenia ww. pracowników zostały wypłacone przez Przedsiębiorstwo, które reprezentuję w wysokości wskazanej w kol. 5 (tj. zgodnie z listą płac w zakresie kwoty brutto powiększonej o ewentualne premie/dodatki zgodne z regulaminem wynagrodzeń).
B49: 1.
B50: 2. | C50: Środki na wynagrodzenia nie zostałyć uzyskane przez Przedsiębiorstwo, które reprezentuję w związku z otrzymanymi wcześniej innymi środkami publicznymi (krajowymi, zagranicznymi i międzynarodowymi).
B51: 3. | C51: Liczba godzin usługi rozwojowej w części wg kol.3 realizowana jest w godzinach pracy uczestników tej usługi.
B52: 4. | C52: Wkład własny w postaci wynagrodzeń został poniesiony zgodnie z przepisami krajowymi, z uwzględnieniem zasad wynikających z ustawy z dnia 29 września 1994 r. o rachunkowości i wynika z dokumentacji księgowej podmiotu wypłacającego (przedsiębiorcy) i może podlegać kontroli.
B53: 5. | C53: Kwota wynagrodzenia pracownika zawarta w kol. 5 nie zawiera wpłat dokonywanych przez przedsiębiorcę zgodnie z ustawą z dnia 27 sierpnia 1997 r. 23 o rehabilitacji zawodowej i społecznej oraz zatrudnianiu osób niepełnosprawnych na PFRON.
...
